BEGIN:VCALENDAR
VERSION:2.0
PRODID:SFPL Web Calendar
BEGIN:VEVENT
UID:138038@sfpl.org
DTSTAMP:20260425T210000Z
DTSTART:20260425T210000Z
DTEND:20260425T223000Z
SUMMARY:Activity: Henna Body Decoration
DESCRIPTION:<p>Learn about the beauty, history and culture of henna. Participants will receive their own henna design, created by artist Renda Dabit. Renda channels her creativity to make each event a unique, communal experience. Join us in the Teen nook. Ages 13–18. Space limited. Reservations required: (415) 355-2825.</p>
LOCATION:Merced - Merced Patio
CLASS:PUBLIC
TRANSP:TRANSPARENT
END:VEVENT
BEGIN:VALARM
TRIGGER:-PT1440M
ACTION:DISPLAY
DESCRIPTION:Event Reminder - Activity: Henna Body Decoration
END:VALARM
END:VCALENDAR