BEGIN:VCALENDAR
VERSION:2.0
PRODID:SFPL Web Calendar
BEGIN:VEVENT
UID:138260@sfpl.org
DTSTAMP:20260201T213000Z
DTSTART:20260201T213000Z
DTEND:20260202T003000Z
SUMMARY:Workshop: Clothed Life Drawing Session
DESCRIPTION:<p>Draw, sketch&nbsp;and paint&nbsp;live model with your artist neighbors. Up to six&nbsp;short pose sessions of twenty minutes in a quiet environment.&nbsp;Please bring your own materials. No oil paints due to lack of ventilation and no&nbsp;photography. For teens and adults. Space limited. Reserve by calling 415-355-2822 (starting January 11).&nbsp;</p>
LOCATION:Potrero - Potrero Meeting Room
CLASS:PUBLIC
TRANSP:TRANSPARENT
END:VEVENT
BEGIN:VALARM
TRIGGER:-PT1440M
ACTION:DISPLAY
DESCRIPTION:Event Reminder - Workshop: Clothed Life Drawing Session
END:VALARM
END:VCALENDAR