BEGIN:VCALENDAR
VERSION:2.0
PRODID:SFPL Web Calendar
BEGIN:VEVENT
UID:139207@sfpl.org
DTSTAMP:20260325T003000Z
DTSTART:20260325T003000Z
DTEND:20260325T020000Z
SUMMARY:Workshop: Make a little notebook!
DESCRIPTION:<p>Create your own notebook with cardstock, waxed thread and paper. &nbsp;Use as a journal or give away as a gift! &nbsp;All supplies provided.&nbsp;</p><p>Space limited. Seats available first come, first served</p>
LOCATION:West Portal - West Portal Children's Area
CLASS:PUBLIC
TRANSP:TRANSPARENT
END:VEVENT
BEGIN:VALARM
TRIGGER:-PT1440M
ACTION:DISPLAY
DESCRIPTION:Event Reminder - Workshop: Make a little notebook!
END:VALARM
END:VCALENDAR