BEGIN:VCALENDAR
VERSION:2.0
PRODID:SFPL Web Calendar
BEGIN:VEVENT
UID:144780@sfpl.org
DTSTAMP:20260222T220000Z
DTSTART:20260222T220000Z
DTEND:20260222T230000Z
SUMMARY:Social: Sunday Swap, Greeting Cards
DESCRIPTION:<p>Bring your unused greeting cards to help them find new life in another home. If possible, please include their associated envelopes, but it's alright if you aren't able.</p><p>All leftover items will be donated.</p><p>Glen Park Branch Library hosts themed swaps to reduce waste and increase community connections. Please let us know if you'd like to see a specific theme at a future community swap meet.</p>
LOCATION:Glen Park - Glen Park Meeting Room
CLASS:PUBLIC
TRANSP:TRANSPARENT
END:VEVENT
BEGIN:VALARM
TRIGGER:-PT1440M
ACTION:DISPLAY
DESCRIPTION:Event Reminder - Social: Sunday Swap, Greeting Cards
END:VALARM
END:VCALENDAR