BEGIN:VCALENDAR
VERSION:2.0
PRODID:SFPL Web Calendar
BEGIN:VEVENT
UID:144912@sfpl.org
DTSTAMP:20260214T220000Z
DTSTART:20260214T220000Z
DTEND:20260215T000000Z
SUMMARY:Workshop: Coaster with Double Crochet Stitches
DESCRIPTION:<p>Learn to make a coaster with double crochet stitches. Suitable for crocheters who already know how to make chains and slip stitches. Printed and digital resources for beginners provided by SFPL will be shared.&nbsp;</p><p>Space limited. Reservations required: (415) 355-5615 (Starting January 15).</p>
LOCATION:Ocean View - Ocean View Meeting Room
CLASS:PUBLIC
TRANSP:TRANSPARENT
END:VEVENT
BEGIN:VALARM
TRIGGER:-PT1440M
ACTION:DISPLAY
DESCRIPTION:Event Reminder - Workshop: Coaster with Double Crochet Stitches
END:VALARM
END:VCALENDAR