BEGIN:VCALENDAR
VERSION:2.0
PRODID:SFPL Web Calendar
BEGIN:VEVENT
UID:145144@sfpl.org
DTSTAMP:20260221T190000Z
DTSTART:20260221T190000Z
DTEND:20260221T200000Z
SUMMARY:Activity: Lonnie Johnson Invention Lab
DESCRIPTION:<p>Inspired by the life of Black inventor Lonnie Johnson, NASA engineer and creator of the Super Soaker, we will put our brains to work creating inventions to solve real-world problems. For children ages 5 and older.</p>
LOCATION:Western Addition - Western Addition Meeting Room
CLASS:PUBLIC
TRANSP:TRANSPARENT
END:VEVENT
BEGIN:VALARM
TRIGGER:-PT1440M
ACTION:DISPLAY
DESCRIPTION:Event Reminder - Activity: Lonnie Johnson Invention Lab
END:VALARM
END:VCALENDAR