BEGIN:VCALENDAR
VERSION:2.0
PRODID:SFPL Web Calendar
BEGIN:VEVENT
UID:145434@sfpl.org
DTSTAMP:20260430T013000Z
DTSTART:20260430T013000Z
DTEND:20260430T023000Z
SUMMARY:Book Club: Mission Bay Reads A Prayer For Owen Meany by John Irving
DESCRIPTION:<p>Join Mission Bay reads for this month's selection <a href="https://sfpl.bibliocommons.com/v2/record/S93C1135762">A Prayer for Owen Meany,</a> terrifying and unforgettable story of what happens in Owen Meany's life as a result of hitting a foul ball that kills his best friend's mother.</p>
LOCATION:Mission Bay - Mission Bay Program Room
CLASS:PUBLIC
TRANSP:TRANSPARENT
END:VEVENT
BEGIN:VALARM
TRIGGER:-PT1440M
ACTION:DISPLAY
DESCRIPTION:Event Reminder - Book Club: Mission Bay Reads A Prayer For Owen Meany by John Irving
END:VALARM
END:VCALENDAR