BEGIN:VCALENDAR
VERSION:2.0
PRODID:SFPL Web Calendar
BEGIN:VEVENT
UID:145513@sfpl.org
DTSTAMP:20260820T220000Z
DTSTART:20260820T220000Z
DTEND:20260820T233000Z
SUMMARY:Activity: LEGO Free Play
DESCRIPTION:<p>Build skyscrapers, forts, castles or whatever your imagination desires with LEGOs. For ages 5 and older.</p>
LOCATION:Ingleside - Ingleside Children's Area
CLASS:PUBLIC
TRANSP:TRANSPARENT
END:VEVENT
BEGIN:VALARM
TRIGGER:-PT1440M
ACTION:DISPLAY
DESCRIPTION:Event Reminder - Activity: LEGO Free Play
END:VALARM
END:VCALENDAR