BEGIN:VCALENDAR
VERSION:2.0
PRODID:SFPL Web Calendar
BEGIN:VEVENT
UID:145747@sfpl.org
DTSTAMP:20260105T233000Z
DTSTART:20260105T233000Z
DTEND:20260106T013000Z
SUMMARY:Film: Mamma Mia!
DESCRIPTION:<p>A young woman invites three of her free-spirited mom's former flings to her Greek island wedding, hoping to discover which one of them is her father.</p><p>Sing along with the soundtrack of 22 ABBA songs. Snacks provided.</p><p>PG-13, 108 mins., 2008. Closed captions (CC) in English.</p>
LOCATION:Glen Park - Glen Park Meeting Room
CLASS:PUBLIC
TRANSP:TRANSPARENT
END:VEVENT
BEGIN:VALARM
TRIGGER:-PT1440M
ACTION:DISPLAY
DESCRIPTION:Event Reminder - Film: Mamma Mia!
END:VALARM
END:VCALENDAR