BEGIN:VCALENDAR
VERSION:2.0
PRODID:SFPL Web Calendar
BEGIN:VEVENT
UID:145872@sfpl.org
DTSTAMP:20260311T220000Z
DTSTART:20260311T220000Z
DTEND:20260311T230000Z
SUMMARY:Activity: LEGO WeDo 2.0
DESCRIPTION:<p>Build and program robots using basic coding skills and simple engineering concepts. For ages 7 and older. Space limited. Seats available first come, first served.</p>
LOCATION:Potrero - Potrero Meeting Room
CLASS:PUBLIC
TRANSP:TRANSPARENT
END:VEVENT
BEGIN:VALARM
TRIGGER:-PT1440M
ACTION:DISPLAY
DESCRIPTION:Event Reminder - Activity: LEGO WeDo 2.0
END:VALARM
END:VCALENDAR