BEGIN:VCALENDAR
VERSION:2.0
PRODID:SFPL Web Calendar
BEGIN:VEVENT
UID:145975@sfpl.org
DTSTAMP:20260408T220000Z
DTSTART:20260408T220000Z
DTEND:20260408T230000Z
SUMMARY:Services: Math Tutoring
DESCRIPTION:<p>Improve your math skills with one-to-one math support, in basic math through Algebra. Tutoring is provided by teen volunteers from Lowell High School's ENGAGE Club. Seats available first come, first served. Please bring mathematics homework or math problems to work on, as the tutors will not be providing work. For children ages 6<strong>–</strong>14.</p>
LOCATION:Visitacion Valley - Visitacion Valley Meeting Room
CLASS:PUBLIC
TRANSP:TRANSPARENT
END:VEVENT
BEGIN:VALARM
TRIGGER:-PT1440M
ACTION:DISPLAY
DESCRIPTION:Event Reminder - Services: Math Tutoring
END:VALARM
END:VCALENDAR