BEGIN:VCALENDAR
VERSION:2.0
PRODID:SFPL Web Calendar
BEGIN:VEVENT
UID:146494@sfpl.org
DTSTAMP:20260418T220000Z
DTSTART:20260418T220000Z
DTEND:20260418T230000Z
SUMMARY:Activity: Giant Bubble Play Stations with Magic Bubbles and Balloons
DESCRIPTION:<p>Learn how to make bubbles of many different sizes and shapes with this fun hands-on activity, hosted by Steve of Magic Bubbles and Balloons. For children and their families.</p><p>Connect: <a href="https://www.magicbubblesandballoons.com/">Magic Bubbles and Balloons - Website&nbsp;</a></p>
LOCATION:Presidio - Presidio Front Patio
CLASS:PUBLIC
TRANSP:TRANSPARENT
END:VEVENT
BEGIN:VALARM
TRIGGER:-PT1440M
ACTION:DISPLAY
DESCRIPTION:Event Reminder - Activity: Giant Bubble Play Stations with Magic Bubbles and Balloons
END:VALARM
END:VCALENDAR