BEGIN:VCALENDAR
VERSION:2.0
PRODID:SFPL Web Calendar
BEGIN:VEVENT
UID:146892@sfpl.org
DTSTAMP:20260305T000000Z
DTSTART:20260305T000000Z
DTEND:20260305T010000Z
SUMMARY:Activity: Origami Hour
DESCRIPTION:<p>Learn the art of Japanese paper folding. Try out a variety of techniques to make animal figures, stationary envelopes and more.&nbsp;For ages 7 and older.</p>
LOCATION:Potrero - Potrero Meeting Room
CLASS:PUBLIC
TRANSP:TRANSPARENT
END:VEVENT
BEGIN:VALARM
TRIGGER:-PT1440M
ACTION:DISPLAY
DESCRIPTION:Event Reminder - Activity: Origami Hour
END:VALARM
END:VCALENDAR