BEGIN:VCALENDAR
VERSION:2.0
PRODID:SFPL Web Calendar
BEGIN:VEVENT
UID:146909@sfpl.org
DTSTAMP:20260408T010000Z
DTSTART:20260408T010000Z
DTEND:20260408T020000Z
SUMMARY:Workshop: Weave Yourself Into Your Story with Cristina Edwards
DESCRIPTION:<p>Make a bookmark, wall hanging or patch with local artist Cristina Edwards while learning about weaving throughout the world. Learn the embodied practice of creating fabric by hand. Participants will be able to complete a project in class, and also take home a small loom and supplies to continue weaving at home.</p><p>Space limited. Reservations required: 415-355-2886 (starting March 9)</p>
LOCATION:West Portal - West Portal Children's Area
CLASS:PUBLIC
TRANSP:TRANSPARENT
END:VEVENT
BEGIN:VALARM
TRIGGER:-PT1440M
ACTION:DISPLAY
DESCRIPTION:Event Reminder - Workshop: Weave Yourself Into Your Story with Cristina Edwards
END:VALARM
END:VCALENDAR