BEGIN:VCALENDAR
VERSION:2.0
PRODID:SFPL Web Calendar
BEGIN:VEVENT
UID:147060@sfpl.org
DTSTAMP:20260515T001500Z
DTSTART:20260515T001500Z
DTEND:20260515T021500Z
SUMMARY:Film: What's Love Got to Do with It?
DESCRIPTION:<p>A story of the turbulent relationship between Ike and Tina Turner. Finding strength in Buddhism, Tina flees decades of domestic abuse to evolve into an independent superstar.&nbsp;</p><p>Director: Brian Gibson&nbsp;</p><p>Stars: Angela Bassett, Lawrence Fishburne</p><p>R, 118 mins., 1993. Closed captions. (CC) in English.</p><p>Popcorn served.</p><p>&nbsp;</p>
LOCATION:Potrero - Potrero Meeting Room
CLASS:PUBLIC
TRANSP:TRANSPARENT
END:VEVENT
BEGIN:VALARM
TRIGGER:-PT1440M
ACTION:DISPLAY
DESCRIPTION:Event Reminder - Film: What's Love Got to Do with It?
END:VALARM
END:VCALENDAR