BEGIN:VCALENDAR
VERSION:2.0
PRODID:SFPL Web Calendar
BEGIN:VEVENT
UID:147940@sfpl.org
DTSTAMP:20260319T213000Z
DTSTART:20260319T213000Z
DTEND:20260319T223000Z
SUMMARY:Workshop: Suffragist Pins and Roses
DESCRIPTION:<p>Learn about the women's suffrage movement and craft symbols of support inspired by history. For children ages 7 and older.</p>
LOCATION:Sunset - Sunset Program Room
CLASS:PUBLIC
TRANSP:TRANSPARENT
END:VEVENT
BEGIN:VALARM
TRIGGER:-PT1440M
ACTION:DISPLAY
DESCRIPTION:Event Reminder - Workshop: Suffragist Pins and Roses
END:VALARM
END:VCALENDAR