BEGIN:VCALENDAR
VERSION:2.0
PRODID:SFPL Web Calendar
BEGIN:VEVENT
UID:148746@sfpl.org
DTSTAMP:20260513T010000Z
DTSTART:20260513T010000Z
DTEND:20260513T023000Z
SUMMARY:Presentation: How a Shark Thinks
DESCRIPTION:<p>Learn about the real lives of sharks with Dr. Stephen Palumbi, Professor of Marine Sciences at Stanford University.</p><p><br>While a few shark species are dangerous wildlife, the public portrayal of sharks as villains and killers is overblown. Explore how sharks interact with and influence the environment. Distinguish fact from myth and learn to respect and admire these fascinating animals.</p><p><br>Stephen Palumbi is a Professor of Marine Sciences and Biology at Stanford University, Senior Fellow at Woods Institute for the Environment and leader of The Palumbi Lab at Hopkins Marine Station.</p><p><br>This event is presented in partnership with Wonderfest, The Bay Area Beacon of Science.</p><p><br>Connect:<br><a href="https://palumbilab.stanford.edu">Stephen Palumbi - Website</a><br><a href="https://wonderfest.org">Wonderfest - Website</a><br>&nbsp;</p>
LOCATION:Main Library - Steve Silver Music Center - 4th Fl
CLASS:PUBLIC
TRANSP:TRANSPARENT
END:VEVENT
BEGIN:VALARM
TRIGGER:-PT1440M
ACTION:DISPLAY
DESCRIPTION:Event Reminder - Presentation: How a Shark Thinks
END:VALARM
END:VCALENDAR