BEGIN:VCALENDAR
VERSION:2.0
PRODID:SFPL Web Calendar
BEGIN:VEVENT
UID:148821@sfpl.org
DTSTAMP:20260418T210000Z
DTSTART:20260418T210000Z
DTEND:20260418T220000Z
SUMMARY:Author: Read-Aloud & Draw with Sara Alfageeh
DESCRIPTION:<p>Author and illustrator Sara Alfageeh presents a read-aloud of her book <i>Not Yet: The Story of an Unstoppable Skater</i>, loosely based on the life of five-time Emirati National Champion Zhara Lari, who is the first figure skater to compete internationally in a hijab. The read aloud is paired with an author presentation on the making of the picture book and a drawing activity.</p><p>Sara Alfageeh is a Jordanian American illustrator, author and creative director in San Francisco. She has a passion for history, teaching, girls with swords, and spaces where art and identity intersect. <i>Not Yet: The Story of an Unstoppable Skater</i>&nbsp;is her debut picture book.</p><p>Sara Alfageeh illustrated the award-winning graphic novel, <i>Squire,</i> and has illustrated for Marvel, Star Wars, Avatar and more.</p><p>Connect: <a href="https://sara-alfa.com/">Sara Alfageeh Website</a>&nbsp;| <a href="https://www.instagram.com/saraalfageeh/">Sara Alfageeh Instagram</a></p>
LOCATION:Glen Park - Glen Park Meeting Room
CLASS:PUBLIC
TRANSP:TRANSPARENT
END:VEVENT
BEGIN:VALARM
TRIGGER:-PT1440M
ACTION:DISPLAY
DESCRIPTION:Event Reminder - Author: Read-Aloud & Draw with Sara Alfageeh
END:VALARM
END:VCALENDAR