BEGIN:VCALENDAR
VERSION:2.0
PRODID:SFPL Web Calendar
BEGIN:VEVENT
UID:148903@sfpl.org
DTSTAMP:20260425T213000Z
DTSTART:20260425T213000Z
DTEND:20260425T230000Z
SUMMARY:Presentation: Caring for a Senior in Crisis
DESCRIPTION:<p>One unexpected slip or fall&nbsp;can become a life-changing moment.&nbsp;Please join Carly Matthews for a group discussion about crisis management for senior citizens&nbsp;in today’s healthcare environment. This presentation includes discussion about the importance of advanced healthcare directives, building a resource team, the&nbsp;journey through&nbsp;hospitalization, acute care, appeals, assisted living facilities&nbsp;and beyond.&nbsp;</p><p>Carly Matthews is a personal finance speaker and former director of a biotech company with&nbsp;experience in managed care, patient advocacy and&nbsp;case management.&nbsp;&nbsp;She has&nbsp;cared&nbsp;for seniors in her personal life&nbsp;and through&nbsp;volunteerism,&nbsp;providing&nbsp;valuable insights to help you prepare for&nbsp;caring for&nbsp;a&nbsp;senior&nbsp;in crisis in San Francisco.</p>
LOCATION:Anza - Anza Meeting Room
CLASS:PUBLIC
TRANSP:TRANSPARENT
END:VEVENT
BEGIN:VALARM
TRIGGER:-PT1440M
ACTION:DISPLAY
DESCRIPTION:Event Reminder - Presentation: Caring for a Senior in Crisis
END:VALARM
END:VCALENDAR