BEGIN:VCALENDAR
VERSION:2.0
PRODID:SFPL Web Calendar
BEGIN:VEVENT
UID:149491@sfpl.org
DTSTAMP:20260312T010000Z
DTSTART:20260312T010000Z
DTEND:20260312T020000Z
SUMMARY:Workshop: Poetry and Meditation with Shabnam Piryaei
DESCRIPTION:<p>Poetry reading and guided meditation with poet, filmmaker and artist Shabnam Piryaei. Shabnam is Iranian American, and the author of four books, most recently the poetry collection <i>all children.</i></p><p>Described by the San Francisco Book Review as “a force to be reckoned with in literary circles,” Shabnam Piryaei&nbsp;is an award-winning poet, filmmaker, and artist. She’s written four books: <a href="https://www.diodeeditions.com/product-page/all-children-by-shabnam-piryaei"><i>all children. </i>(Diode Editions, 2024)</a>, <i>Nothing is Wasted </i>(The Operating System, 2017), <i>Forward</i> (Museum Books, 2014) and <i>Ode to Fragile </i>(Plain View Press, 2010). She’s written and directed films that have screened at film festivals, art galleries, and public installations around the world. Her documentary film <i>No Separate Survival</i>&nbsp;won Best Documentary Film from San Diego Film Week. She holds a PhD in Comparative Literature and teaches at San Francisco State University. She is the founder and curator of the online art and interview journal <a href="http://www.m-u-s-e-u-m.org/">MUSEUM</a>, and the founder of <a href="https://www.featherportalhealing.com/">Feather Portal Healing</a>. Her art has been exhibited at the Unlike Art Gallery, Elysium Art Gallery, New Gallery London, Youyou Gallery, Jotta, Galleria Perelà, Kala Art Institute, and Yerba Buena Center for the Arts. She wants everyone to be, and to feel, free.</p><p>Connect: <a href="https://shabnampiryaei.com/">Shabnam Piraeyi - Website</a></p>
LOCATION:West Portal - West Portal Children's Area
CLASS:PUBLIC
TRANSP:TRANSPARENT
END:VEVENT
BEGIN:VALARM
TRIGGER:-PT1440M
ACTION:DISPLAY
DESCRIPTION:Event Reminder - Workshop: Poetry and Meditation with Shabnam Piryaei
END:VALARM
END:VCALENDAR