BEGIN:VCALENDAR
VERSION:2.0
PRODID:SFPL Web Calendar
BEGIN:VEVENT
UID:149595@sfpl.org
DTSTAMP:20260428T210000Z
DTSTART:20260428T210000Z
DTEND:20260428T230000Z
SUMMARY:Workshop: DIY Stamp Making
DESCRIPTION:<p>Learn how to carve stamps with linoleum cutters and add a handmade, personal touch to cards, tote bags, and homemade gift wrap. Space is limited. Reservation required: 415-355-2888 (starting April 1).&nbsp; &nbsp;</p>
LOCATION:Chinatown/Him Mark Lai - Chinatown Meeting Room
CLASS:PUBLIC
TRANSP:TRANSPARENT
END:VEVENT
BEGIN:VALARM
TRIGGER:-PT1440M
ACTION:DISPLAY
DESCRIPTION:Event Reminder - Workshop: DIY Stamp Making
END:VALARM
END:VCALENDAR