BEGIN:VCALENDAR
VERSION:2.0
PRODID:SFPL Web Calendar
BEGIN:VEVENT
UID:149839@sfpl.org
DTSTAMP:20260425T173000Z
DTSTART:20260425T173000Z
DTEND:20260425T183000Z
SUMMARY:Workshop: Kaleidoscope Making
DESCRIPTION:<p>Learn to make your own kaleidoscope. Recommended for ages 6+</p>
LOCATION:Parkside - Parkside Children's Area
CLASS:PUBLIC
TRANSP:TRANSPARENT
END:VEVENT
BEGIN:VALARM
TRIGGER:-PT1440M
ACTION:DISPLAY
DESCRIPTION:Event Reminder - Workshop: Kaleidoscope Making
END:VALARM
END:VCALENDAR