BEGIN:VCALENDAR
VERSION:2.0
PRODID:SFPL Web Calendar
BEGIN:VEVENT
UID:150139@sfpl.org
DTSTAMP:20260509T173000Z
DTSTART:20260509T173000Z
DTEND:20260509T210000Z
SUMMARY:Workshop: Mother's Day Card Making
DESCRIPTION:<p>Craft together with your little one to make something beautiful. We'll have plenty of supplies to make a special card for Mom or that special person in your life.</p>
LOCATION:North Beach - North Beach Library Community Room
CLASS:PUBLIC
TRANSP:TRANSPARENT
END:VEVENT
BEGIN:VALARM
TRIGGER:-PT1440M
ACTION:DISPLAY
DESCRIPTION:Event Reminder - Workshop: Mother's Day Card Making
END:VALARM
END:VCALENDAR