BEGIN:VCALENDAR
VERSION:2.0
PRODID:SFPL Web Calendar
BEGIN:VEVENT
UID:150163@sfpl.org
DTSTAMP:20260502T220000Z
DTSTART:20260502T220000Z
DTEND:20260503T000000Z
SUMMARY:Film: The Empire Strikes Back
DESCRIPTION:<p><br>After the Empire overpowers the Rebel Alliance, Luke Skywalker begins training with Jedi Master Yoda, while Darth Vader and bounty hunter Boba Fett pursue his friends across the galaxy.&nbsp;</p><p>PG, 124 mins.,1980. Closed captions (CC) in English.</p><p>&nbsp;</p>
LOCATION:Mission Bay - Mission Bay Program Room
CLASS:PUBLIC
TRANSP:TRANSPARENT
END:VEVENT
BEGIN:VALARM
TRIGGER:-PT1440M
ACTION:DISPLAY
DESCRIPTION:Event Reminder - Film: The Empire Strikes Back
END:VALARM
END:VCALENDAR