BEGIN:VCALENDAR
VERSION:2.0
PRODID:SFPL Web Calendar
BEGIN:VEVENT
UID:150212@sfpl.org
DTSTAMP:20260409T190000Z
DTSTART:20260409T190000Z
DTEND:20260409T210000Z
SUMMARY:Film: A Quiet Passion
DESCRIPTION:<p>In honor of National Poetry Month we screen <a href="https://sfpl.bibliocommons.com/v2/search?custom_edit=false&query=title%3A(A%20Quiet%20Passion)%20%20%20isolanguage%3A%22eng%22%20formatcode%3A(BLURAY%20OR%20VIDEO_DOWNLOAD%20OR%20DVD%20)&searchType=bl&suppress=true"><i>A Quiet Passion</i></a>, the acclaimed biographical film about the American poet Emily Dickinson.&nbsp;</p><p><i>A Quiet Passion</i> presents the story of American poet <a href="https://sfpl.bibliocommons.com/v2/search?custom_edit=false&query=contributor%3A(dickinson%2C%20emily)%20%20%20isolanguage%3A%22eng%22%20formatcode%3A(BK%20)&searchType=bl&suppress=true">Emily Dickinson</a>, from her early days as a young schoolgirl to her later years as a reclusive, unrecognized artist. Written and directed by British filmmaker <a href="https://sfpl.bibliocommons.com/v2/search?custom_edit=false&query=contributor%3A(Davies%2C%20Terence)%20%20%20isolanguage%3A%22eng%22%20formatcode%3A(BLURAY%20OR%20BK%20OR%20VIDEO_DOWNLOAD%20OR%20DVD%20)&searchType=bl&suppress=true">Terence Davies</a>, the film stars <a href="https://sfpl.bibliocommons.com/v2/search?custom_edit=false&query=contributor%3A(Nixon%2C%20Cynthia)%20%20%20isolanguage%3A%22eng%22%20formatcode%3A(BLURAY%20OR%20BK%20OR%20VIDEO_DOWNLOAD%20OR%20DVD%20)&searchType=bl&suppress=true">Cynthia Nixon</a> as the mature&nbsp;poet and co-stars <a href="https://sfpl.bibliocommons.com/v2/search?custom_edit=false&query=contributor%3A(Bell%2C%20Emma)%20%20%20isolanguage%3A%22eng%22%20formatcode%3A(BLURAY%20OR%20BK%20OR%20VIDEO_DOWNLOAD%20OR%20DVD%20)&searchType=bl&suppress=true">Emma Bell</a> as young Dickinson and <a href="https://sfpl.bibliocommons.com/v2/search?custom_edit=false&query=contributor%3A(Carradine%2C%20Keith)%20%20%20isolanguage%3A%22eng%22%20formatcode%3A(BLURAY%20OR%20BK%20OR%20VIDEO_DOWNLOAD%20OR%20DVD%20)&searchType=bl&suppress=true">Keith Carradine</a> as the poet's father.&nbsp;</p><p>Director: Terence Davies&nbsp;</p><p>PG-13, 125&nbsp;mins., 2016. Closed captions (CC) in English.&nbsp;</p>
LOCATION:Main Library - Koret Auditorium
CLASS:PUBLIC
TRANSP:TRANSPARENT
END:VEVENT
BEGIN:VALARM
TRIGGER:-PT1440M
ACTION:DISPLAY
DESCRIPTION:Event Reminder - Film: A Quiet Passion
END:VALARM
END:VCALENDAR