BEGIN:VCALENDAR
VERSION:2.0
PRODID:SFPL Web Calendar
BEGIN:VEVENT
UID:150264@sfpl.org
DTSTAMP:20260613T230000Z
DTSTART:20260613T230000Z
DTEND:20260614T000000Z
SUMMARY:Social: Family Game Night
DESCRIPTION:<p>Play board games, giant Jenga and a variety of other games in the company of your community. For children and their caregivers.</p><p>&nbsp;</p>
LOCATION:Bernal Heights - Bernal Heights Meeting Room
CLASS:PUBLIC
TRANSP:TRANSPARENT
END:VEVENT
BEGIN:VALARM
TRIGGER:-PT1440M
ACTION:DISPLAY
DESCRIPTION:Event Reminder - Social: Family Game Night
END:VALARM
END:VCALENDAR