BEGIN:VCALENDAR
VERSION:2.0
PRODID:SFPL Web Calendar
BEGIN:VEVENT
UID:150377@sfpl.org
DTSTAMP:20260419T213000Z
DTSTART:20260419T213000Z
DTEND:20260419T223000Z
SUMMARY:Activity: Tarot Exploration
DESCRIPTION:<p>Take a guided and written journey into one tarot card. We can also share what we notice, try a simple collaborative reading or discuss questions and interests. Handouts, books and a few practice decks will be available and feel free to bring your own. For ages 13 and older.&nbsp;</p>
LOCATION:Glen Park - Glen Park Meeting Room
CLASS:PUBLIC
TRANSP:TRANSPARENT
END:VEVENT
BEGIN:VALARM
TRIGGER:-PT1440M
ACTION:DISPLAY
DESCRIPTION:Event Reminder - Activity: Tarot Exploration
END:VALARM
END:VCALENDAR