BEGIN:VCALENDAR
VERSION:2.0
PRODID:SFPL Web Calendar
BEGIN:VEVENT
UID:150641@sfpl.org
DTSTAMP:20260527T220000Z
DTSTART:20260527T220000Z
DTEND:20260527T233000Z
SUMMARY:Workshop: Origami
DESCRIPTION:<p>Learn to make a variety of origami such as rabbits, flower baskets, spiders and decorative boxes with local arist, Angela Wang. Space limited. Reservations required: (415) 355-2823.</p><p>Connect: <a href="https://www.instagram.com/angela_origami/">Angela Wang - Instagram</a></p>
LOCATION:Marina - Marina General Floor Area
CLASS:PUBLIC
TRANSP:TRANSPARENT
END:VEVENT
BEGIN:VALARM
TRIGGER:-PT1440M
ACTION:DISPLAY
DESCRIPTION:Event Reminder - Workshop: Origami
END:VALARM
END:VCALENDAR