BEGIN:VCALENDAR
VERSION:2.0
PRODID:SFPL Web Calendar
BEGIN:VEVENT
UID:150816@sfpl.org
DTSTAMP:20260813T223000Z
DTSTART:20260813T223000Z
DTEND:20260814T000000Z
SUMMARY:Workshop: Watercolor Galaxy Painting
DESCRIPTION:<p>Create your own watercolor galaxy painting inspired by the beauty of our amazing Milky Way galaxy. Learn about the science of salt and water and be inspired by groundbreaking astronomers. For children ages 5 and older. Space limited. Reservations required: (415) 355-5727.</p>
LOCATION:Western Addition - Western Addition Meeting Room
CLASS:PUBLIC
TRANSP:TRANSPARENT
END:VEVENT
BEGIN:VALARM
TRIGGER:-PT1440M
ACTION:DISPLAY
DESCRIPTION:Event Reminder - Workshop: Watercolor Galaxy Painting
END:VALARM
END:VCALENDAR