BEGIN:VCALENDAR
VERSION:2.0
PRODID:SFPL Web Calendar
BEGIN:VEVENT
UID:151046@sfpl.org
DTSTAMP:20260418T220000Z
DTSTART:20260418T220000Z
DTEND:20260419T000000Z
SUMMARY:Celebration: 30 Years of the James C. Hormel Center
DESCRIPTION:<p>Three decades ago, the James C. Hormel LGBTQIA Center became the first center of its kind in a municipal building and remains a unique beacon for the general public, researchers, writers and artists from the San Francisco Bay Area and worldwide. Celebrate thirty years of trailblazing public programming, exhibitions and world-class archival and book collections from 1996 through the present and beyond. Special guests to be announced. Light refreshments provided. Much joy is in store!</p><p>Organized by the Hormel Center's Advisory Committee.&nbsp;</p>
LOCATION:Main Library - James C. Hormel LGBTQIA Center - 3rd Fl
CLASS:PUBLIC
TRANSP:TRANSPARENT
END:VEVENT
BEGIN:VALARM
TRIGGER:-PT1440M
ACTION:DISPLAY
DESCRIPTION:Event Reminder - Celebration: 30 Years of the James C. Hormel Center
END:VALARM
END:VCALENDAR