BEGIN:VCALENDAR
VERSION:2.0
PRODID:SFPL Web Calendar
BEGIN:VEVENT
UID:151047@sfpl.org
DTSTAMP:20260408T010000Z
DTSTART:20260408T010000Z
DTEND:20260408T020000Z
SUMMARY:Speaker: Christopher Pollock: Remnants of San Francisco
DESCRIPTION:<p>Join Christopher Pollock, San Francisco Recreation and Park Department Historian in Residence, for an exploration of the city’s past. There are fascinating architectural fragments scattered around San Francisco that may raise the question, “What is the story here?” These pieces are leftovers of a larger construction, once part of a private project, or a public or military infrastructure. This presentation will examine the significance of these sites.&nbsp;</p><p>Christopher Pollock is the author of several books focused on San Francisco history, including <a href="https://sfpl.bibliocommons.com/v2/record/S93C4484841"><i>San Francisco’s Golden Gate Park</i></a><i>, </i><a href="https://sfpl.bibliocommons.com/v2/record/S93C2695217"><i>Reel San Francisco Stories</i></a> and <a href="https://sfpl.bibliocommons.com/v2/record/S93C6046423"><i>San Francisco’s Parks</i></a>.&nbsp;</p>
LOCATION:Eureka Valley/Harvey Milk Memorial - Eureka Valley General Floor Area
CLASS:PUBLIC
TRANSP:TRANSPARENT
END:VEVENT
BEGIN:VALARM
TRIGGER:-PT1440M
ACTION:DISPLAY
DESCRIPTION:Event Reminder - Speaker: Christopher Pollock: Remnants of San Francisco
END:VALARM
END:VCALENDAR