BEGIN:VCALENDAR
VERSION:2.0
PRODID:SFPL Web Calendar
BEGIN:VEVENT
UID:151055@sfpl.org
DTSTAMP:20260419T210000Z
DTSTART:20260419T210000Z
DTEND:20260419T220000Z
SUMMARY:Workshop: Rubber Band Cars with Sacred Heart Cathedral's Robotics Team
DESCRIPTION:<p>Build a rubber band car and compete in a speed competition to earn a prize! Test out a competition robot from the SHC robotics team and drive it yourself! Make learning fun with Teens from Sacred Heart Cathedral's Robotics team, VEX Team 8255 Fighting Irish – presenters of STEM events for youth. For children ages 7 and older.</p>
LOCATION:Merced - Merced General Floor Area
CLASS:PUBLIC
TRANSP:TRANSPARENT
END:VEVENT
BEGIN:VALARM
TRIGGER:-PT1440M
ACTION:DISPLAY
DESCRIPTION:Event Reminder - Workshop: Rubber Band Cars with Sacred Heart Cathedral's Robotics Team
END:VALARM
END:VCALENDAR