BEGIN:VCALENDAR
VERSION:2.0
PRODID:SFPL Web Calendar
BEGIN:VEVENT
UID:151217@sfpl.org
DTSTAMP:20260419T213000Z
DTSTART:20260419T213000Z
DTEND:20260419T223000Z
SUMMARY:Activity: Cardboard Creations
DESCRIPTION:<p>Use recycled materials to craft your own cardboard creation. For children and their caregivers.&nbsp;</p>
LOCATION:Parkside - Parkside Children's Area
CLASS:PUBLIC
TRANSP:TRANSPARENT
END:VEVENT
BEGIN:VALARM
TRIGGER:-PT1440M
ACTION:DISPLAY
DESCRIPTION:Event Reminder - Activity: Cardboard Creations
END:VALARM
END:VCALENDAR