BEGIN:VCALENDAR
VERSION:2.0
PRODID:SFPL Web Calendar
BEGIN:VEVENT
UID:151390@sfpl.org
DTSTAMP:20260422T010000Z
DTSTART:20260422T010000Z
DTEND:20260422T023000Z
SUMMARY:Presentation: What Lies Beneath the Main - Civic Center's Cemetery Origins
DESCRIPTION:<p>Before the San Francisco Public Library, the Asian Art Museum and UN Plaza rose in the heart of San Francisco, this area was home to San Francisco’s first city-run burial ground, Yerba Buena Cemetery. Join journalist Beth Winegarner, historian Woody LaBounty and cemetery researcher Alex Ryder as they reveal the history of this Gold Rush graveyard and the burials that remain beneath our feet.&nbsp;</p><p><br><br>&nbsp;</p>
LOCATION:Virtual Library
CLASS:PUBLIC
TRANSP:TRANSPARENT
END:VEVENT
BEGIN:VALARM
TRIGGER:-PT1440M
ACTION:DISPLAY
DESCRIPTION:Event Reminder - Presentation: What Lies Beneath the Main - Civic Center's Cemetery Origins
END:VALARM
END:VCALENDAR