BEGIN:VCALENDAR
VERSION:2.0
PRODID:SFPL Web Calendar
BEGIN:VEVENT
UID:151425@sfpl.org
DTSTAMP:20260501T010000Z
DTSTART:20260501T010000Z
DTEND:20260501T020000Z
SUMMARY:Author: Fae Myenne Ng in conversation with Ben Fong-Torres
DESCRIPTION:<p><strong>Explore the immigrant histories woven through </strong><a href="https://sfpl.bibliocommons.com/v2/record/S93C7276776"><i><strong>Orphan Bachelors</strong></i></a><strong> as Fae Myenne Ng discusses her acclaimed memoir in conversation with Ben Fong-Torres.</strong></p><p>What happens when immigration laws leave generations of men cut off from family, home, and a sense of belonging? In <i>Orphan Bachelors</i>, Ng draws on her childhood in San Francisco’s Chinatown to tell an intimate immigrant story shaped by the Chinese Exclusion era. Through memories of her parents and the isolated men who surrounded them, Ng reveals how policy becomes personal, shaping identity, responsibility, and survival. Blending memoir with social history, she offers a compassionate meditation on inheritance, resilience, and the long emotional afterlife of exclusion.</p><p><strong>Fae Meynne Ng</strong> is the author of the award-winning memoir <i>Orphan Bachelors</i>, winner of the California Book Awards Gold Medal for Nonfiction and the William Saroyan International Prize for Writing in Nonfiction. She is also the author of the novels <a href="https://sfpl.bibliocommons.com/v2/record/S93C3395675"><i>Bone</i></a> and <a href="https://sfpl.bibliocommons.com/v2/record/S93C2137092"><i>Steer Toward Rock</i></a>. Her work has been published in <i>Harper’s Magazine</i>, <i>The New Republic</i> and <i>Ploughshares</i>, and anthologized in <i>Charlie Chan Is Dead: An Anthology of Contemporary Asian American Fiction</i> and <i>The Pushcart Press</i>. She has received fellowships from the Guggenheim Foundation, the National Endowment for the Arts and the American Academy of Arts & Letters, and teaches creative writing and literature in UC Berkeley’s Department of Asian American and Asian Diaspora Studies.</p><p><a href="https://benfongtorres.com/"><strong>Ben Fong-Torres</strong></a> was an editor and writer at <i>Rolling Stone</i> (and a real-life character in <i>Almost Famous</i>). While at the magazine, he was a Sunday DJ on KSAN-FM. He has published ten books, including his memoirs, <a href="https://sfpl.bibliocommons.com/v2/record/S93C2453419"><i>The Rice Room: Growing Up Chinese American</i></a>. He co-anchored telecasts of the Chinese New Year on KTVU for 24 years, winning five Emmys. He earned an honorary doctorate from the California State University Board of Trustees and is the subject of a documentary, <a href="https://www.imdb.com/title/tt9660510/"><i>Like a Rolling Stone</i></a>. He is a DJ on <a href="https://www.moonaliceradio.com/">www.MoonaliceRadio.com</a>.</p>
LOCATION:Virtual Library
CLASS:PUBLIC
TRANSP:TRANSPARENT
END:VEVENT
BEGIN:VALARM
TRIGGER:-PT1440M
ACTION:DISPLAY
DESCRIPTION:Event Reminder - Author: Fae Myenne Ng in conversation with Ben Fong-Torres
END:VALARM
END:VCALENDAR