BEGIN:VCALENDAR
VERSION:2.0
PRODID:SFPL Web Calendar
BEGIN:VEVENT
UID:151429@sfpl.org
DTSTAMP:20260429T010000Z
DTSTART:20260429T010000Z
DTEND:20260429T020000Z
SUMMARY:Book Club: Jeff Hiller's Actress of a Certain Age
DESCRIPTION:<p>Discuss <a href="https://sfpl.bibliocommons.com/v2/record/S93C7222012"><i><strong>Actress of a Certain Age</strong></i></a> by Jeff Hiller. &nbsp;</p><p>This book club discussion will explore Hiller’s reflections on queer identity, rejection, resilience, and the creative life, with attention to how humor operates as both armor and invitation. Blending self-deprecation with genuine emotional insight, the essays offer a resonant look at perseverance and reinvention when success arrives later—or takes an unexpected shape.</p><p><strong>Start the conversation at our book clubs, then see Hiller live when he appears with City Arts & Lectures on May 8.&nbsp;</strong><a href="https://url.avanan.click/v2/r01/___https://libraryaware.com/3BKZEN?SID=711d239d-0d59-495f-9ce0-82bc307a3282___.YXAzOnNmZHQyOmE6bzpkNzczOGRiODIxN2M3NGY3OGMzNGM4OWQzOGYyMmIzMDo3OmRiNzA6ZTBlZmM0NjA1OTViMTYwMzY4MTFkYjc4MDA3MzY0ZjcwODNiMjFiZjBlNjRlOTc4YzJmNWYwZGI0MGNkNjk5NzpoOlQ6Tg"><strong>Tickets Free at Your Library while supplies last, RSVP now.</strong></a></p><p>&nbsp;</p>
LOCATION:Main Library - Mary Louise Stong Conference Room - 1st Fl
CLASS:PUBLIC
TRANSP:TRANSPARENT
END:VEVENT
BEGIN:VALARM
TRIGGER:-PT1440M
ACTION:DISPLAY
DESCRIPTION:Event Reminder - Book Club: Jeff Hiller's Actress of a Certain Age
END:VALARM
END:VCALENDAR