BEGIN:VCALENDAR
VERSION:2.0
PRODID:SFPL Web Calendar
BEGIN:VEVENT
UID:151636@sfpl.org
DTSTAMP:20260429T190000Z
DTSTART:20260429T190000Z
DTEND:20260429T203000Z
SUMMARY:Taller: Contabilidad Básica para la Gestión de tu Negocio
DESCRIPTION:<p>Aprende los fundamentos de las finanzas para pequeños negocios en lenguaje claro, con consejos prácticos que puede aplicar a su propio negocio. &nbsp;</p><p>Dirigir un pequeño negocio trae desafíos financieros únicos, desde gestionar el flujo de efectivo diario hasta comprender los gastos, los precios y las fluctuaciones estacionales.</p><p>En esta sesión explicaremos cómo:</p><ul><li>Registrar ingresos y gastos de manera simple y efectiva</li><li>Gestionar el flujo de efectivo para cubrir cuentas, alquiler y nómina</li><li>Comprender los costos y estrategias de precios</li><li>Separar las finanzas personales de las del negocio</li><li>Identificar cuándo buscar financiamiento o apoyo externo</li></ul><p>Esta sesión está diseñada para apoyar a los emprendedores del Área de la Bahía, especialmente en la comunidad de&nbsp;<strong>Excelsior y la ciudad de San Francisco</strong>.</p><p>El Centro de Iniciativa Empresarial Renaissance tiene como misión potenciar y aumentar las capacidades empresariales de personas social y económicamente diversas y así fortalecer nuestras comunidades mediante la creación de nuevas empresas sostenibles, nuevos empleos y autosuficiencia financiera.</p><p><strong>Conexiones: </strong><a href="https://rencenter.org"><strong>Renaissance sitio web</strong></a><strong> | </strong><a href="https://www.facebook.com/RenaissanceEntrepreneurshipCenter"><strong>Facebook</strong></a><strong>&nbsp;|&nbsp;</strong><a href="https://www.linkedin.com/company/renaissance-entrepreneurship-center/"><strong>LinkedIn</strong></a><strong>&nbsp;|&nbsp;</strong><a href="https://www.instagram.com/rencenter/"><strong>Instagram</strong></a></p>
LOCATION:Excelsior - Excelsior Meeting Room
CLASS:PUBLIC
TRANSP:TRANSPARENT
END:VEVENT
BEGIN:VALARM
TRIGGER:-PT1440M
ACTION:DISPLAY
DESCRIPTION:Event Reminder - Taller: Contabilidad Básica para la Gestión de tu Negocio
END:VALARM
END:VCALENDAR