BEGIN:VCALENDAR
VERSION:2.0
PRODID:SFPL Web Calendar
BEGIN:VEVENT
UID:151864@sfpl.org
DTSTAMP:20260516T200000Z
DTSTART:20260516T200000Z
DTEND:20260516T213000Z
SUMMARY:Presentation: Designing Beautiful Gardens in San Francisco
DESCRIPTION:<p>Discover how to create thoughtful, resilient, and inspiring garden spaces no matter the constraints.&nbsp;&nbsp;</p><p>San&nbsp;Francisco gardens come with their own set of challenges—shade from neighboring buildings, compact urban lots, and persistent wind. We’ll&nbsp;begin by grounding ourselves in core landscape design principles—color, texture, scale, and layout—and how these can be adapted to small or shaded environments. From there, we’ll dive into plants that truly thrive in San Francisco’s microclimates, and discuss&nbsp;how to tailor plant selections and design strategies to meet the specific needs of shade gardens, small backyards, patios, and apartment balconies. Whether you’re working with a courtyard, a shared outdoor space, or a single sunny window, this session will&nbsp;give you practical, creative tools to design a garden that feels lush, intentional, and distinctly San Francisco.</p><p>Presenter <strong>Becca&nbsp;Flato </strong>is a seasoned Design Director with extensive experience in fashion retail and a growing focus on landscape design. During the COVID-19 pandemic, Rebecca pursued her long-standing interest in gardening and landscapes. Becca has since cultivated her expertise,&nbsp;becoming a certified California Native Plant Landscaper and a UC Master Naturalist. Her landscape design approach integrates a deep understanding of native California ecology, blending aesthetics with sustainability. She is committed to bringing an ecology-focused&nbsp;perspective to landscape design, with an emphasis on restoring native habitats and promoting biodiversity.</p>
LOCATION:Golden Gate Valley - Golden Gate Valley Meeting Room
CLASS:PUBLIC
TRANSP:TRANSPARENT
END:VEVENT
BEGIN:VALARM
TRIGGER:-PT1440M
ACTION:DISPLAY
DESCRIPTION:Event Reminder - Presentation: Designing Beautiful Gardens in San Francisco
END:VALARM
END:VCALENDAR