BEGIN:VCALENDAR
VERSION:2.0
PRODID:SFPL Web Calendar
BEGIN:VEVENT
UID:152078@sfpl.org
DTSTAMP:20260507T010000Z
DTSTART:20260507T010000Z
DTEND:20260507T023000Z
SUMMARY:Film: Chan Is Missing
DESCRIPTION:<p>Wayne Wang updates the ingredients of classic film noir for the contemporary streets of San Francisco's Chinatown. When their business partner disappears with $4000, cabbie Jo and his nephew Steve scour the city's back alleys, waterfronts, and Chinese restaurants to track him down. What begins as a search for a missing man turns into a humorous, elusive investigation into the complexities and contradictions of Chinese American identity.</p><p>Released in June 1982, filming locations include the Chinatown, Manilatown, Nob Hill, Russian Hill, Inner Richmond and Japantown neighborhoods and Aquatic Park, San Francisco.</p><p>Not rated, 76 mins., 1982. Closed captions (CC) in English.</p>
LOCATION:Glen Park - Glen Park Meeting Room
CLASS:PUBLIC
TRANSP:TRANSPARENT
END:VEVENT
BEGIN:VALARM
TRIGGER:-PT1440M
ACTION:DISPLAY
DESCRIPTION:Event Reminder - Film: Chan Is Missing
END:VALARM
END:VCALENDAR