BEGIN:VCALENDAR
VERSION:2.0
PRODID:SFPL Web Calendar
BEGIN:VEVENT
UID:152161@sfpl.org
DTSTAMP:20260807T200000Z
DTSTART:20260807T200000Z
DTEND:20260807T210000Z
SUMMARY:Workshop: Bibimbap Remix Pop-Up with June Jo Lee
DESCRIPTION:<p>Prepare and enjoy hot, veggie-forward bibimbap with June Jo Lee, Food Ethnographer and award-winning children's book author, co-author of <a href="https://sfpl.bibliocommons.com/v2/record/S93C3387213">Chef Roy Choi and The Street Food Remix</a>, a 2018 Seibert Honor Book. &nbsp;</p><p>For ages 6 and older. Youth under the age of 8 must be accompanied by an adult.&nbsp;</p><p>Space limited. Reservations required: (415) 355-5757.</p><p>Connect:<a href="https://www.readerstoeaters.com/our-story"> Eaters to Readers – Website</a>&nbsp;</p><p>Connect: <a href="https://www.wunderland.kitchen/">Wunderland Kitchen – Website</a></p>
LOCATION:Bayview/Linda Brooks-Burton - Bayview Meeting Room
CLASS:PUBLIC
TRANSP:TRANSPARENT
END:VEVENT
BEGIN:VALARM
TRIGGER:-PT1440M
ACTION:DISPLAY
DESCRIPTION:Event Reminder - Workshop: Bibimbap Remix Pop-Up with June Jo Lee
END:VALARM
END:VCALENDAR