BEGIN:VCALENDAR
VERSION:2.0
PRODID:SFPL Web Calendar
BEGIN:VEVENT
UID:152206@sfpl.org
DTSTAMP:20260423T010000Z
DTSTART:20260423T010000Z
DTEND:20260423T023000Z
SUMMARY:Dialogue: Haight History Night
DESCRIPTION:<p>Learn about the history of your neighborhood and share your stories about important people, places, businesses and events. At this event, SF Planning will provide information about recently identified historic places in the Haight-Ashbury, Lower Haight, and Divisadero Neighborhood Commercial Districts. Community input will help SF Planning consider important neighborhood places and inform historic and cultural preservation efforts. A short presentation by SF Planning will be followed by Q&A and time to provide input.&nbsp;</p><p>Everyone is welcome. No prior knowledge of history or preservation is required. Light refreshments will be provided. For more information and&nbsp;accessibility requests, including language interpretation or translation, contact: <a href="mailto:cpc.survey@sfgov.org">cpc.survey@sfgov.org</a></p><p>Banner image courtesy of OpenSFHistory (wnp28.1268): <a href="https://www.opensfhistory.org/Display/wnp28.1268.jpg">Haight near Ashbury - OpenSFHistory - Western Neighborhoods Project</a></p>
LOCATION:Park - Park Meeting Room
CLASS:PUBLIC
TRANSP:TRANSPARENT
END:VEVENT
BEGIN:VALARM
TRIGGER:-PT1440M
ACTION:DISPLAY
DESCRIPTION:Event Reminder - Dialogue: Haight History Night
END:VALARM
END:VCALENDAR