BEGIN:VCALENDAR
VERSION:2.0
PRODID:SFPL Web Calendar
BEGIN:VEVENT
UID:152209@sfpl.org
DTSTAMP:20260624T220000Z
DTSTART:20260624T220000Z
DTEND:20260624T230000Z
SUMMARY:Activity: Popsicle-Stick Catapults
DESCRIPTION:<p>Make tabletop catapults with popsicle sticks and rubber bands. Shoot off mini-pompoms.&nbsp;</p>
LOCATION:Eureka Valley/Harvey Milk Memorial - Eureka Valley Children's Area
CLASS:PUBLIC
TRANSP:TRANSPARENT
END:VEVENT
BEGIN:VALARM
TRIGGER:-PT1440M
ACTION:DISPLAY
DESCRIPTION:Event Reminder - Activity: Popsicle-Stick Catapults
END:VALARM
END:VCALENDAR