BEGIN:VCALENDAR
VERSION:2.0
PRODID:SFPL Web Calendar
BEGIN:VEVENT
UID:152381@sfpl.org
DTSTAMP:20260802T220000Z
DTSTART:20260802T220000Z
DTEND:20260802T230000Z
SUMMARY:Activity: Crochet Sunday
DESCRIPTION:<p>Learn and practice basic crocheting techniques in a supportive environment. Knitters also welcome! Participants can use the materials provided or bring their own project. For children ages 9 and older.</p>
LOCATION:Sunset - Sunset Program Room
CLASS:PUBLIC
TRANSP:TRANSPARENT
END:VEVENT
BEGIN:VALARM
TRIGGER:-PT1440M
ACTION:DISPLAY
DESCRIPTION:Event Reminder - Activity: Crochet Sunday
END:VALARM
END:VCALENDAR