BEGIN:VCALENDAR
VERSION:2.0
PRODID:SFPL Web Calendar
BEGIN:VEVENT
UID:152401@sfpl.org
DTSTAMP:20260427T190000Z
DTSTART:20260427T190000Z
DTEND:20260427T200000Z
SUMMARY:Presentation: Rebuild Your Career in the U.S.
DESCRIPTION:<p>Learn about Upwardly&nbsp;Global’s&nbsp;job readiness program which supports immigrant and refugee professionals in restarting their careers in the United States. Through proven job programs, participants gain the tools and confidence needed to re-enter their professional fields and secure meaningful employment.&nbsp;</p><p>&nbsp;</p><p>In this session,&nbsp;you’ll&nbsp;discover how upwardly Global helps: &nbsp;</p><ul><li>Translate your international experience into U.S. career success&nbsp;</li><li>Access free certifications, interview coaching, and job search tools&nbsp;</li><li>Navigate U.S. workplace culture and hiring practices&nbsp;</li><li>Build a powerful professional network and connect with employers&nbsp;</li></ul><p>&nbsp;</p><p>This program is 100%&nbsp;free, and&nbsp;designed to help you thrive.&nbsp;Don’t&nbsp;miss your chance to take the next step toward a fulfilling career.&nbsp;</p><p>&nbsp;</p>
LOCATION:Virtual Library
CLASS:PUBLIC
TRANSP:TRANSPARENT
END:VEVENT
BEGIN:VALARM
TRIGGER:-PT1440M
ACTION:DISPLAY
DESCRIPTION:Event Reminder - Presentation: Rebuild Your Career in the U.S.
END:VALARM
END:VCALENDAR