BEGIN:VCALENDAR
VERSION:2.0
PRODID:SFPL Web Calendar
BEGIN:VEVENT
UID:152736@sfpl.org
DTSTAMP:20260516T213000Z
DTSTART:20260516T213000Z
DTEND:20260516T223000Z
SUMMARY:Workshop: Chinese Calligraphy with JoJo Liu
DESCRIPTION:<p>Local artist Jojo Liu demonstrates the art of of traditional Chinese calligraphy. Liu will be teaching you how to hold a brush, write basic strokes and write standing.&nbsp;</p><p>Liu is a San&nbsp;Francisco based art instructor at Pacific Art League.</p><p>Space limited. Reservations required: (415) 355-5600.</p><p>Connect:</p><p><a href="https://www.jojocalligraphy.com/">JoJo Liu - Website</a> | <a href="https://www.instagram.com/jojo_calligraphy/">JoJo Liu - Instagram</a></p>
LOCATION:Richmond/Senator Milton Marks - Richmond Meeting Room
CLASS:PUBLIC
TRANSP:TRANSPARENT
END:VEVENT
BEGIN:VALARM
TRIGGER:-PT1440M
ACTION:DISPLAY
DESCRIPTION:Event Reminder - Workshop: Chinese Calligraphy with JoJo Liu
END:VALARM
END:VCALENDAR