BEGIN:VCALENDAR
VERSION:2.0
PRODID:SFPL Web Calendar
BEGIN:VEVENT
UID:152903@sfpl.org
DTSTAMP:20260414T180000Z
DTSTART:20260414T180000Z
DTEND:20260414T190000Z
SUMMARY:Presentation: Yggdrasil Urban Wildlife Rescue
DESCRIPTION:<p>Meet various critters in an interactive presentation about local animal rescue and city wildlife. The program will take place at the bookmobile in front of the Koret Children's Carousel.</p><p><a href="https://yuwr.org/">The Yggdrasil Urban Wildlife Rescue (YUWR) </a>and Education Center is a non-profit organization serving the San Francisco Bay Area in California since 2001. They are dedicated to the rehabilitation of orphaned and injured wildlife living in urban city centers and education of the public about how to live harmoniously with our cities’ wildlife.</p><p>Connect: <a href="https://www.instagram.com/yggdrasilwildlife/">Yggdrasil – Instagram</a> | <a href="https://www.facebook.com/Yggdrasilwildlife">Yggdrasil – Facebook</a></p>
LOCATION:Bookmobiles / Mobile Outreach
CLASS:PUBLIC
TRANSP:TRANSPARENT
END:VEVENT
BEGIN:VALARM
TRIGGER:-PT1440M
ACTION:DISPLAY
DESCRIPTION:Event Reminder - Presentation: Yggdrasil Urban Wildlife Rescue
END:VALARM
END:VCALENDAR