BEGIN:VCALENDAR
VERSION:2.0
PRODID:SFPL Web Calendar
BEGIN:VEVENT
UID:152932@sfpl.org
DTSTAMP:20260527T200000Z
DTSTART:20260527T200000Z
DTEND:20260527T230000Z
SUMMARY:Film: Libeled Lady
DESCRIPTION:<p>Chinatown Afternoon Movie presents: Libeled Lady</p><p>Synopsis: &nbsp;When a major newspaper accuses wealthy socialite Connie Allenbury (Myrna Loy) of being a home-wrecker, and she files a multi-million-dollar libel lawsuit, the publication's frazzled head editor, Warren Haggerty (Spencer Tracy), must find a way to turn the tables on her. Soon Haggerty's harried fiancée, Gladys Benton (Jean Harlow), and his dashing friend Bill Chandler (William Powell) are in on a scheme that aims to discredit Connie, with amusing and unexpected results.</p><p>NR, 98 mins., 1936. Subtitles in English.</p>
LOCATION:Chinatown/Him Mark Lai - Chinatown Meeting Room
CLASS:PUBLIC
TRANSP:TRANSPARENT
END:VEVENT
BEGIN:VALARM
TRIGGER:-PT1440M
ACTION:DISPLAY
DESCRIPTION:Event Reminder - Film: Libeled Lady
END:VALARM
END:VCALENDAR