BEGIN:VCALENDAR
VERSION:2.0
PRODID:SFPL Web Calendar
BEGIN:VEVENT
UID:153010@sfpl.org
DTSTAMP:20260503T210000Z
DTSTART:20260503T210000Z
DTEND:20260503T223000Z
SUMMARY:Workshop: Bojagi: The Art of Korean Sustainable Gifting
DESCRIPTION:<p>Learn to do Bojagi, a Korean tradition of wrapping and storing items with fabric, led by Judy Kim. &nbsp;</p><p>Space limited. Reservations required: (415) 355-5757, email marmgr@sfpl.org or sign-up at the reference desk.&nbsp;</p><p>Connect:&nbsp;<a href="https://bojagi-home.com/">Judy Kim - Website</a> | <a href="https://www.instagram.com/bojagihome">Instagram - @bojagihome&nbsp;</a></p><p>&nbsp;</p><p>&nbsp;</p><p><br>&nbsp;</p>
LOCATION:Marina - Marina General Floor Area
CLASS:PUBLIC
TRANSP:TRANSPARENT
END:VEVENT
BEGIN:VALARM
TRIGGER:-PT1440M
ACTION:DISPLAY
DESCRIPTION:Event Reminder - Workshop: Bojagi: The Art of Korean Sustainable Gifting
END:VALARM
END:VCALENDAR