BEGIN:VCALENDAR
VERSION:2.0
PRODID:SFPL Web Calendar
BEGIN:VEVENT
UID:153013@sfpl.org
DTSTAMP:20260520T224500Z
DTSTART:20260520T224500Z
DTEND:20260520T234500Z
SUMMARY:Workshop: Japanese Stab Binding Notebook
DESCRIPTION:<p>Create a notebook with a simple&nbsp;Japanese stab binding technique. For ages 6–12. Space limited. Reservations required: (415) 355-2889.</p>
LOCATION:Chinatown/Him Mark Lai - Chinatown Meeting Room
CLASS:PUBLIC
TRANSP:TRANSPARENT
END:VEVENT
BEGIN:VALARM
TRIGGER:-PT1440M
ACTION:DISPLAY
DESCRIPTION:Event Reminder - Workshop: Japanese Stab Binding Notebook
END:VALARM
END:VCALENDAR