BEGIN:VCALENDAR
VERSION:2.0
PRODID:SFPL Web Calendar
BEGIN:VEVENT
UID:153027@sfpl.org
DTSTAMP:20260519T210000Z
DTSTART:20260519T210000Z
DTEND:20260519T230000Z
SUMMARY:Workshop: Red Envelope Lantern
DESCRIPTION:<p>Create a lantern out of red envelopes to celebrate Asian Heritage month. Space limited. Reservations required: 415-355-2888 (starting May 1).&nbsp;</p>
LOCATION:Chinatown/Him Mark Lai - Chinatown Meeting Room
CLASS:PUBLIC
TRANSP:TRANSPARENT
END:VEVENT
BEGIN:VALARM
TRIGGER:-PT1440M
ACTION:DISPLAY
DESCRIPTION:Event Reminder - Workshop: Red Envelope Lantern
END:VALARM
END:VCALENDAR